BEGIN:VCALENDAR
VERSION:2.0
PRODID:-//Tukios.com/
BEGIN:VEVENT
UID:dc5a58aa-5af7-42b5-8564-1baa88af4bcf@obituaries.douglassandzook.com
DTSTAMP:20260421T035514Z
DTSTART:20260526T171500Z
DTEND:20260526T174500Z
SUMMARY:Graveside Service of Theresa Tracy
DESCRIPTION:
URL:https://obituaries.douglassandzook.com/obituaries/theresa-tracy
LOCATION:Riverside National Cemetery 22495 Van Buren Boulevard  Riverside 
	CA 92518
GEO:33.8856688;-117.2793495
END:VEVENT
END:VCALENDAR