BEGIN:VCALENDAR
VERSION:2.0
PRODID:-//Tukios.com/
BEGIN:VEVENT
UID:2664c8a9-82e8-4905-ac97-4f459abb6810@obituaries.douglassandzook.com
DTSTAMP:20260426T000245Z
DTSTART:20260505T171500Z
DTEND:20260505T181500Z
SUMMARY:Visitation of Leonard Zlotorowicz
DESCRIPTION:
URL:https://obituaries.douglassandzook.com/obituaries/leonard-zlotorowicz
LOCATION:Douglass & Zook - Chapel of the Foothills 600 E Foothill Blvd  
	Monrovia CA 91016
GEO:34.151126;-117.9918464
END:VEVENT
END:VCALENDAR