BEGIN:VCALENDAR
VERSION:2.0
PRODID:-//Tukios.com/
BEGIN:VEVENT
UID:8a266211-fa65-47ca-a636-8a225c2761f9@obituaries.douglassandzook.com
DTSTAMP:20260426T000016Z
DTSTART:20260508T183000Z
DTEND:20260508T190000Z
SUMMARY:Graveside Service of Leonard Zlotorowicz
DESCRIPTION:
URL:https://obituaries.douglassandzook.com/obituaries/leonard-zlotorowicz
LOCATION:Live Oak Memorial Park 200 East Duarte Road  Monrovia CA 91016
GEO:34.1314398;-117.996639
END:VEVENT
END:VCALENDAR