BEGIN:VCALENDAR
VERSION:2.0
PRODID:-//Tukios.com/
BEGIN:VEVENT
UID:feb93525-47f0-460f-a71f-eea9f3259e20@obituaries.douglassandzook.com
DTSTAMP:20260426T000000Z
DTSTART:20260505T180000Z
DTEND:20260505T190000Z
SUMMARY:Funeral Service of Leonard Zlotorowicz
DESCRIPTION:
URL:https://obituaries.douglassandzook.com/obituaries/leonard-zlotorowicz
LOCATION:Douglass & Zook - Chapel of the Foothills 600 E Foothill Blvd  
	Monrovia CA 91016
GEO:34.151126;-117.9918464
END:VEVENT
END:VCALENDAR